Package: CoverageView Version: 1.40.0 Command: /Library/Frameworks/R.framework/Resources/bin/R CMD INSTALL CoverageView StartedAt: 2024-03-03 15:27:50 -0500 (Sun, 03 Mar 2024) EndedAt: 2024-03-03 15:28:34 -0500 (Sun, 03 Mar 2024) EllapsedTime: 44.5 seconds RetCode: 0 Status: OK