Package: CopyNumberPlots Version: 1.18.0 Command: /Library/Frameworks/R.framework/Resources/bin/R CMD build --keep-empty-dirs --no-resave-data CopyNumberPlots StartedAt: 2024-03-03 16:21:31 -0500 (Sun, 03 Mar 2024) EndedAt: 2024-03-03 16:23:18 -0500 (Sun, 03 Mar 2024) EllapsedTime: 107.5 seconds RetCode: 0 Status: OK PackageFile: CopyNumberPlots_1.18.0.tar.gz PackageFileSize: 1.737 MiB