Package: CopyNumberPlots Version: 1.18.0 Command: rm -rf CopyNumberPlots.buildbin-libdir && mkdir CopyNumberPlots.buildbin-libdir && /Users/biocbuild/BBS/utils/build-universal.sh CopyNumberPlots_1.18.0.tar.gz /Library/Frameworks/R.framework/Resources/bin/R CopyNumberPlots.buildbin-libdir StartedAt: 2024-03-04 00:35:45 -0500 (Mon, 04 Mar 2024) EndedAt: 2024-03-04 00:36:52 -0500 (Mon, 04 Mar 2024) EllapsedTime: 67.5 seconds RetCode: 0 Status: OK PackageFile: CopyNumberPlots_1.18.0.tgz PackageFileSize: 1.862 MiB