Package: ConsensusClusterPlus Version: 1.66.0 Command: /Library/Frameworks/R.framework/Resources/bin/R CMD INSTALL ConsensusClusterPlus StartedAt: 2024-04-15 15:08:37 -0400 (Mon, 15 Apr 2024) EndedAt: 2024-04-15 15:09:00 -0400 (Mon, 15 Apr 2024) EllapsedTime: 23.5 seconds RetCode: 0 Status: OK