Package: CompoundDb Version: 1.6.0 Command: /home/biocbuild/bbs-3.18-bioc/R/bin/R CMD check --install=check:CompoundDb.install-out.txt --library=/home/biocbuild/bbs-3.18-bioc/R/site-library --timings CompoundDb_1.6.0.tar.gz StartedAt: 2024-04-15 21:29:35 -0400 (Mon, 15 Apr 2024) EndedAt: 2024-04-15 21:32:25 -0400 (Mon, 15 Apr 2024) EllapsedTime: 170.6 seconds RetCode: 0 Status: OK CheckDir: CompoundDb.Rcheck Warnings: 0