Package: Cogito Version: 1.8.0 Command: /Library/Frameworks/R.framework/Resources/bin/R CMD build --keep-empty-dirs --no-resave-data Cogito StartedAt: 2024-04-15 17:49:43 -0400 (Mon, 15 Apr 2024) EndedAt: 2024-04-15 17:52:07 -0400 (Mon, 15 Apr 2024) EllapsedTime: 144.0 seconds RetCode: 0 Status: OK PackageFile: Cogito_1.8.0.tar.gz PackageFileSize: 869.1 KiB