Package: Cogito Version: 1.8.0 Command: /home/biocbuild/R/R-4.3.1/bin/R CMD check --install=check:Cogito.install-out.txt --library=/home/biocbuild/R/R-4.3.1/site-library --no-vignettes --timings Cogito_1.8.0.tar.gz StartedAt: 2023-11-02 09:28:17 -0000 (Thu, 02 Nov 2023) EndedAt: 2023-11-02 09:34:41 -0000 (Thu, 02 Nov 2023) EllapsedTime: 384.0 seconds RetCode: 1 Status: ERROR CheckDir: Cogito.Rcheck Warnings: NA