Package: Cogito Version: 1.8.0 Command: /home/biocbuild/R/R-4.3.1/bin/R CMD build --keep-empty-dirs --no-resave-data Cogito StartedAt: 2023-11-01 23:39:52 -0000 (Wed, 01 Nov 2023) EndedAt: 2023-11-01 23:41:28 -0000 (Wed, 01 Nov 2023) EllapsedTime: 96.1 seconds RetCode: 0 Status: OK PackageFile: Cogito_1.8.0.tar.gz PackageFileSize: 892.9 KiB