Package: CoSIA Version: 1.2.0 Command: /home/biocbuild/bbs-3.18-bioc/R/bin/R CMD build --keep-empty-dirs --no-resave-data CoSIA StartedAt: 2024-04-15 16:37:29 -0400 (Mon, 15 Apr 2024) EndedAt: 2024-04-15 16:43:23 -0400 (Mon, 15 Apr 2024) EllapsedTime: 354.2 seconds RetCode: 1 Status: ERROR PackageFile: None PackageFileSize: NA