Package: CoRegNet Version: 1.40.0 Command: /Library/Frameworks/R.framework/Resources/bin/R CMD build --keep-empty-dirs --no-resave-data CoRegNet StartedAt: 2024-04-15 17:55:00 -0400 (Mon, 15 Apr 2024) EndedAt: 2024-04-15 17:55:32 -0400 (Mon, 15 Apr 2024) EllapsedTime: 31.6 seconds RetCode: 0 Status: OK PackageFile: CoRegNet_1.40.0.tar.gz PackageFileSize: 4.871 MiB