Package: CoRegNet Version: 1.40.0 Command: /Library/Frameworks/R.framework/Resources/bin/R CMD INSTALL CoRegNet StartedAt: 2024-03-03 15:24:05 -0500 (Sun, 03 Mar 2024) EndedAt: 2024-03-03 15:24:27 -0500 (Sun, 03 Mar 2024) EllapsedTime: 21.6 seconds RetCode: 0 Status: OK