Package: CoGAPS Version: 3.22.0 Command: /home/biocbuild/bbs-3.18-bioc/R/bin/R CMD build --keep-empty-dirs --no-resave-data CoGAPS StartedAt: 2024-04-15 16:32:59 -0400 (Mon, 15 Apr 2024) EndedAt: 2024-04-15 16:41:13 -0400 (Mon, 15 Apr 2024) EllapsedTime: 494.6 seconds RetCode: 0 Status: OK PackageFile: CoGAPS_3.22.0.tar.gz PackageFileSize: 19.97 MiB