Package: ClustIRR Version: 1.0.0 Command: rm -rf ClustIRR.buildbin-libdir && mkdir ClustIRR.buildbin-libdir && F:\biocbuild\bbs-3.18-bioc\R\bin\R.exe CMD INSTALL --build --library=ClustIRR.buildbin-libdir ClustIRR_1.0.0.tar.gz StartedAt: 2024-04-16 06:49:21 -0400 (Tue, 16 Apr 2024) EndedAt: 2024-04-16 06:49:28 -0400 (Tue, 16 Apr 2024) EllapsedTime: 7.6 seconds RetCode: 0 Status: OK PackageFile: ClustIRR_1.0.0.zip PackageFileSize: 1.066 MiB