Package: ClustIRR Version: 1.0.0 Command: /Library/Frameworks/R.framework/Resources/bin/R CMD check --install=check:ClustIRR.install-out.txt --library=/Library/Frameworks/R.framework/Resources/library --no-vignettes --timings ClustIRR_1.0.0.tar.gz StartedAt: 2024-04-16 00:52:26 -0400 (Tue, 16 Apr 2024) EndedAt: 2024-04-16 00:56:13 -0400 (Tue, 16 Apr 2024) EllapsedTime: 227.2 seconds RetCode: 0 Status: OK CheckDir: ClustIRR.Rcheck Warnings: 0