Package: ClustIRR Version: 1.0.0 Command: rm -rf ClustIRR.buildbin-libdir && mkdir ClustIRR.buildbin-libdir && /Users/biocbuild/BBS/utils/build-universal.sh ClustIRR_1.0.0.tar.gz /Library/Frameworks/R.framework/Resources/bin/R ClustIRR.buildbin-libdir StartedAt: 2024-04-16 11:18:15 -0400 (Tue, 16 Apr 2024) EndedAt: 2024-04-16 11:18:26 -0400 (Tue, 16 Apr 2024) EllapsedTime: 11.5 seconds RetCode: 0 Status: OK PackageFile: ClustIRR_1.0.0.tgz PackageFileSize: 1.135 MiB