Package: ClustIRR Version: 1.0.0 Command: rm -rf ClustIRR.buildbin-libdir && mkdir ClustIRR.buildbin-libdir && /Users/biocbuild/BBS/utils/build-universal.sh ClustIRR_1.0.0.tar.gz /Library/Frameworks/R.framework/Resources/bin/R ClustIRR.buildbin-libdir StartedAt: 2024-03-04 00:34:43 -0500 (Mon, 04 Mar 2024) EndedAt: 2024-03-04 00:34:49 -0500 (Mon, 04 Mar 2024) EllapsedTime: 6.9 seconds RetCode: 0 Status: OK PackageFile: ClustIRR_1.0.0.tgz PackageFileSize: 1.126 MiB