Package: CluMSID Version: 1.18.0 Command: chmod a+r CluMSID -R && F:\biocbuild\bbs-3.18-bioc\R\bin\R.exe CMD build --keep-empty-dirs --no-resave-data CluMSID StartedAt: 2024-04-15 17:38:47 -0400 (Mon, 15 Apr 2024) EndedAt: 2024-04-15 17:46:41 -0400 (Mon, 15 Apr 2024) EllapsedTime: 474.6 seconds RetCode: 0 Status: OK PackageFile: CluMSID_1.18.0.tar.gz PackageFileSize: 2.89 MiB