Package: CluMSID Version: 1.18.0 Command: /home/biocbuild/bbs-3.18-bioc/R/bin/R CMD check --install=check:CluMSID.install-out.txt --library=/home/biocbuild/bbs-3.18-bioc/R/site-library --timings CluMSID_1.18.0.tar.gz StartedAt: 2024-04-15 21:17:31 -0400 (Mon, 15 Apr 2024) EndedAt: 2024-04-15 21:31:13 -0400 (Mon, 15 Apr 2024) EllapsedTime: 822.3 seconds RetCode: 0 Status: WARNINGS CheckDir: CluMSID.Rcheck Warnings: 1