Package: CluMSID Version: 1.18.0 Command: /home/biocbuild/R/R-4.3.1/bin/R CMD INSTALL CluMSID StartedAt: 2023-11-01 20:36:25 -0000 (Wed, 01 Nov 2023) EndedAt: 2023-11-01 20:36:52 -0000 (Wed, 01 Nov 2023) EllapsedTime: 26.5 seconds RetCode: 0 Status: OK