Package: CluMSID Version: 1.18.0 Command: /home/biocbuild/R/R-4.3.1/bin/R CMD build --keep-empty-dirs --no-resave-data CluMSID StartedAt: 2023-11-01 23:33:27 -0000 (Wed, 01 Nov 2023) EndedAt: 2023-11-01 23:41:39 -0000 (Wed, 01 Nov 2023) EllapsedTime: 491.7 seconds RetCode: 0 Status: OK PackageFile: CluMSID_1.18.0.tar.gz PackageFileSize: 4.167 MiB