Package: Clonality Version: 1.50.0 Command: F:\biocbuild\bbs-3.18-bioc\R\bin\R.exe CMD INSTALL Clonality StartedAt: 2024-04-15 15:36:03 -0400 (Mon, 15 Apr 2024) EndedAt: 2024-04-15 15:36:25 -0400 (Mon, 15 Apr 2024) EllapsedTime: 21.9 seconds RetCode: 1 Status: ERROR