Package: Clonality Version: 1.49.0 Command: /Library/Frameworks/R.framework/Resources/bin/R CMD check --install=check:Clonality.install-out.txt --library=/Library/Frameworks/R.framework/Resources/library --no-vignettes --timings Clonality_1.49.0.tar.gz StartedAt: 2023-07-07 19:48:07 -0400 (Fri, 07 Jul 2023) EndedAt: 2023-07-07 19:48:57 -0400 (Fri, 07 Jul 2023) EllapsedTime: 50.6 seconds RetCode: 1 Status: ERROR CheckDir: Clonality.Rcheck Warnings: NA