Package: Clomial Version: 1.38.0 Command: /Library/Frameworks/R.framework/Resources/bin/R CMD check --install=check:Clomial.install-out.txt --library=/Library/Frameworks/R.framework/Resources/library --no-vignettes --timings Clomial_1.38.0.tar.gz StartedAt: 2024-03-03 19:40:19 -0500 (Sun, 03 Mar 2024) EndedAt: 2024-03-03 19:42:42 -0500 (Sun, 03 Mar 2024) EllapsedTime: 142.7 seconds RetCode: 0 Status: OK CheckDir: Clomial.Rcheck Warnings: 0