Package: CiteFuse Version: 1.14.0 Command: /home/biocbuild/bbs-3.18-bioc/R/bin/R CMD check --install=check:CiteFuse.install-out.txt --library=/home/biocbuild/bbs-3.18-bioc/R/site-library --timings CiteFuse_1.14.0.tar.gz StartedAt: 2024-04-15 21:14:29 -0400 (Mon, 15 Apr 2024) EndedAt: 2024-04-15 21:22:49 -0400 (Mon, 15 Apr 2024) EllapsedTime: 499.6 seconds RetCode: 0 Status: OK CheckDir: CiteFuse.Rcheck Warnings: 0