Package: CiteFuse Version: 1.14.0 Command: /home/biocbuild/bbs-3.18-bioc/R/bin/R CMD build --keep-empty-dirs --no-resave-data CiteFuse StartedAt: 2024-04-15 16:28:46 -0400 (Mon, 15 Apr 2024) EndedAt: 2024-04-15 16:31:30 -0400 (Mon, 15 Apr 2024) EllapsedTime: 164.8 seconds RetCode: 0 Status: OK PackageFile: CiteFuse_1.14.0.tar.gz PackageFileSize: 3.072 MiB