Package: CiteFuse Version: 1.14.0 Command: /Library/Frameworks/R.framework/Resources/bin/R CMD INSTALL CiteFuse StartedAt: 2024-03-03 15:40:45 -0500 (Sun, 03 Mar 2024) EndedAt: 2024-03-03 15:41:55 -0500 (Sun, 03 Mar 2024) EllapsedTime: 70.2 seconds RetCode: 0 Status: OK