Package: CircSeqAlignTk Version: 1.4.0 Command: /home/biocbuild/bbs-3.18-bioc/R/bin/R CMD check --install=check:CircSeqAlignTk.install-out.txt --library=/home/biocbuild/bbs-3.18-bioc/R/site-library --timings CircSeqAlignTk_1.4.0.tar.gz StartedAt: 2024-04-15 21:13:42 -0400 (Mon, 15 Apr 2024) EndedAt: 2024-04-15 21:22:56 -0400 (Mon, 15 Apr 2024) EllapsedTime: 554.9 seconds RetCode: 0 Status: OK CheckDir: CircSeqAlignTk.Rcheck Warnings: 0