Package: CircSeqAlignTk Version: 1.4.0 Command: /Library/Frameworks/R.framework/Resources/bin/R CMD INSTALL CircSeqAlignTk StartedAt: 2024-04-15 15:51:49 -0400 (Mon, 15 Apr 2024) EndedAt: 2024-04-15 15:53:14 -0400 (Mon, 15 Apr 2024) EllapsedTime: 85.0 seconds RetCode: 0 Status: OK