Package: ChromHeatMap Version: 1.56.0 Command: chmod a+r ChromHeatMap -R && F:\biocbuild\bbs-3.18-bioc\R\bin\R.exe CMD build --keep-empty-dirs --no-resave-data ChromHeatMap StartedAt: 2024-04-15 17:35:03 -0400 (Mon, 15 Apr 2024) EndedAt: 2024-04-15 17:36:01 -0400 (Mon, 15 Apr 2024) EllapsedTime: 58.2 seconds RetCode: 0 Status: OK PackageFile: ChromHeatMap_1.56.0.tar.gz PackageFileSize: 217.1 KiB