Package: ChromHeatMap Version: 1.56.0 Command: rm -rf ChromHeatMap.buildbin-libdir && mkdir ChromHeatMap.buildbin-libdir && F:\biocbuild\bbs-3.18-bioc\R\bin\R.exe CMD INSTALL --build --library=ChromHeatMap.buildbin-libdir ChromHeatMap_1.56.0.tar.gz StartedAt: 2024-04-16 06:48:13 -0400 (Tue, 16 Apr 2024) EndedAt: 2024-04-16 06:49:00 -0400 (Tue, 16 Apr 2024) EllapsedTime: 46.7 seconds RetCode: 0 Status: OK PackageFile: ChromHeatMap_1.56.0.zip PackageFileSize: 577.5 KiB