Package: ChromHeatMap Version: 1.56.0 Command: /home/biocbuild/R/R-4.3.1/bin/R CMD INSTALL ChromHeatMap StartedAt: 2023-11-01 20:23:19 -0000 (Wed, 01 Nov 2023) EndedAt: 2023-11-01 20:24:09 -0000 (Wed, 01 Nov 2023) EllapsedTime: 49.1 seconds RetCode: 0 Status: OK