Package: Chicago Version: 1.30.0 Command: F:\biocbuild\bbs-3.18-bioc\R\bin\R.exe CMD INSTALL Chicago StartedAt: 2024-04-15 16:12:42 -0400 (Mon, 15 Apr 2024) EndedAt: 2024-04-15 16:12:55 -0400 (Mon, 15 Apr 2024) EllapsedTime: 12.9 seconds RetCode: 0 Status: OK