Package: Chicago Version: 1.30.0 Command: /home/biocbuild/bbs-3.18-bioc/R/bin/R CMD build --keep-empty-dirs --no-resave-data Chicago StartedAt: 2024-04-15 16:25:40 -0400 (Mon, 15 Apr 2024) EndedAt: 2024-04-15 16:26:57 -0400 (Mon, 15 Apr 2024) EllapsedTime: 76.7 seconds RetCode: 0 Status: OK PackageFile: Chicago_1.30.0.tar.gz PackageFileSize: 1.124 MiB