Package: Chicago Version: 1.30.0 Command: /Library/Frameworks/R.framework/Resources/bin/R CMD INSTALL Chicago StartedAt: 2024-04-15 15:47:00 -0400 (Mon, 15 Apr 2024) EndedAt: 2024-04-15 15:47:16 -0400 (Mon, 15 Apr 2024) EllapsedTime: 16.6 seconds RetCode: 0 Status: OK