Package: Chicago Version: 1.30.0 Command: /home/biocbuild/R/R-4.3.1/bin/R CMD build --keep-empty-dirs --no-resave-data Chicago StartedAt: 2023-11-01 23:17:33 -0000 (Wed, 01 Nov 2023) EndedAt: 2023-11-01 23:19:34 -0000 (Wed, 01 Nov 2023) EllapsedTime: 121.2 seconds RetCode: 0 Status: OK PackageFile: Chicago_1.30.0.tar.gz PackageFileSize: 1.177 MiB