Package: ChemmineR Version: 3.54.0 Command: rm -rf ChemmineR.buildbin-libdir && mkdir ChemmineR.buildbin-libdir && F:\biocbuild\bbs-3.18-bioc\R\bin\R.exe CMD INSTALL --build --library=ChemmineR.buildbin-libdir ChemmineR_3.54.0.tar.gz StartedAt: 2024-04-11 06:47:08 -0400 (Thu, 11 Apr 2024) EndedAt: 2024-04-11 06:48:08 -0400 (Thu, 11 Apr 2024) EllapsedTime: 60.1 seconds RetCode: 0 Status: OK PackageFile: ChemmineR_3.54.0.zip PackageFileSize: 2.159 MiB