Package: ChemmineR Version: 3.54.0 Command: /Library/Frameworks/R.framework/Resources/bin/R CMD build --keep-empty-dirs --no-resave-data ChemmineR StartedAt: 2024-04-15 17:36:51 -0400 (Mon, 15 Apr 2024) EndedAt: 2024-04-15 17:39:27 -0400 (Mon, 15 Apr 2024) EllapsedTime: 156.1 seconds RetCode: 0 Status: OK PackageFile: ChemmineR_3.54.0.tar.gz PackageFileSize: 2.243 MiB