Package: ChemmineR Version: 3.54.0 Command: /Library/Frameworks/R.framework/Resources/bin/R CMD INSTALL ChemmineR StartedAt: 2024-03-03 15:38:22 -0500 (Sun, 03 Mar 2024) EndedAt: 2024-03-03 15:39:01 -0500 (Sun, 03 Mar 2024) EllapsedTime: 39.1 seconds RetCode: 0 Status: OK