Package: ChemmineR Version: 3.54.0 Command: rm -rf ChemmineR.buildbin-libdir && mkdir ChemmineR.buildbin-libdir && /Users/biocbuild/BBS/utils/build-universal.sh ChemmineR_3.54.0.tar.gz /Library/Frameworks/R.framework/Resources/bin/R ChemmineR.buildbin-libdir StartedAt: 2024-03-04 00:33:32 -0500 (Mon, 04 Mar 2024) EndedAt: 2024-03-04 00:34:14 -0500 (Mon, 04 Mar 2024) EllapsedTime: 42.3 seconds RetCode: 0 Status: OK PackageFile: ChemmineR_3.54.0.tgz PackageFileSize: 2.392 MiB