Package: ChemmineOB Version: 1.40.0 Command: /home/biocbuild/bbs-3.18-bioc/R/bin/R CMD INSTALL ChemmineOB StartedAt: 2024-04-15 15:07:19 -0400 (Mon, 15 Apr 2024) EndedAt: 2024-04-15 15:09:10 -0400 (Mon, 15 Apr 2024) EllapsedTime: 111.4 seconds RetCode: 0 Status: OK