Package: ChemmineOB Version: 1.40.0 Command: /home/biocbuild/bbs-3.18-bioc/R/bin/R CMD check --install=check:ChemmineOB.install-out.txt --library=/home/biocbuild/bbs-3.18-bioc/R/site-library --timings ChemmineOB_1.40.0.tar.gz StartedAt: 2024-04-15 21:06:46 -0400 (Mon, 15 Apr 2024) EndedAt: 2024-04-15 21:08:16 -0400 (Mon, 15 Apr 2024) EllapsedTime: 89.7 seconds RetCode: 0 Status: WARNINGS CheckDir: ChemmineOB.Rcheck Warnings: 2