Package: ChemmineOB Version: 1.40.0 Command: /home/biocbuild/bbs-3.18-bioc/R/bin/R CMD build --keep-empty-dirs --no-resave-data ChemmineOB StartedAt: 2024-04-15 16:25:23 -0400 (Mon, 15 Apr 2024) EndedAt: 2024-04-15 16:27:10 -0400 (Mon, 15 Apr 2024) EllapsedTime: 107.0 seconds RetCode: 0 Status: OK PackageFile: ChemmineOB_1.40.0.tar.gz PackageFileSize: 1.303 MiB