Package: ChIPsim Version: 1.56.0 Command: chmod a+r ChIPsim -R && F:\biocbuild\bbs-3.18-bioc\R\bin\R.exe CMD build --keep-empty-dirs --no-resave-data ChIPsim StartedAt: 2024-04-15 17:34:33 -0400 (Mon, 15 Apr 2024) EndedAt: 2024-04-15 17:35:55 -0400 (Mon, 15 Apr 2024) EllapsedTime: 81.6 seconds RetCode: 0 Status: OK PackageFile: ChIPsim_1.56.0.tar.gz PackageFileSize: 522 KiB