Package: ChIPsim Version: 1.56.0 Command: /Library/Frameworks/R.framework/Resources/bin/R CMD build --keep-empty-dirs --no-resave-data ChIPsim StartedAt: 2024-04-15 17:39:27 -0400 (Mon, 15 Apr 2024) EndedAt: 2024-04-15 17:41:55 -0400 (Mon, 15 Apr 2024) EllapsedTime: 147.8 seconds RetCode: 0 Status: OK PackageFile: ChIPsim_1.56.0.tar.gz PackageFileSize: 647.9 KiB