Package: ChIPsim Version: 1.56.0 Command: /Library/Frameworks/R.framework/Resources/bin/R CMD check --install=check:ChIPsim.install-out.txt --library=/Library/Frameworks/R.framework/Resources/library --no-vignettes --timings ChIPsim_1.56.0.tar.gz StartedAt: 2024-03-03 19:36:18 -0500 (Sun, 03 Mar 2024) EndedAt: 2024-03-03 19:40:17 -0500 (Sun, 03 Mar 2024) EllapsedTime: 238.9 seconds RetCode: 0 Status: OK CheckDir: ChIPsim.Rcheck Warnings: 0