Package: ChIPseqR Version: 1.56.0 Command: /Library/Frameworks/R.framework/Resources/bin/R CMD check --install=check:ChIPseqR.install-out.txt --library=/Library/Frameworks/R.framework/Resources/library --no-vignettes --timings ChIPseqR_1.56.0.tar.gz StartedAt: 2024-03-03 19:36:16 -0500 (Sun, 03 Mar 2024) EndedAt: 2024-03-03 19:41:01 -0500 (Sun, 03 Mar 2024) EllapsedTime: 285.5 seconds RetCode: 0 Status: OK CheckDir: ChIPseqR.Rcheck Warnings: 0