Package: ChIPseqR Version: 1.56.0 Command: /Library/Frameworks/R.framework/Resources/bin/R CMD build --keep-empty-dirs --no-resave-data ChIPseqR StartedAt: 2024-03-03 16:13:38 -0500 (Sun, 03 Mar 2024) EndedAt: 2024-03-03 16:15:06 -0500 (Sun, 03 Mar 2024) EllapsedTime: 87.8 seconds RetCode: 0 Status: OK PackageFile: ChIPseqR_1.56.0.tar.gz PackageFileSize: 729.6 KiB