Package: ChIPseeker Version: 1.38.0 Command: /Library/Frameworks/R.framework/Resources/bin/R CMD check --install=check:ChIPseeker.install-out.txt --library=/Library/Frameworks/R.framework/Resources/library --no-vignettes --timings ChIPseeker_1.38.0.tar.gz StartedAt: 2024-04-16 00:38:46 -0400 (Tue, 16 Apr 2024) EndedAt: 2024-04-16 01:18:47 -0400 (Tue, 16 Apr 2024) EllapsedTime: 2400.6 seconds RetCode: None Status: TIMEOUT CheckDir: ChIPseeker.Rcheck Warnings: NA