Package: ChIPseeker Version: 1.38.0 Command: /Library/Frameworks/R.framework/Resources/bin/R CMD build --keep-empty-dirs --no-resave-data ChIPseeker StartedAt: 2024-04-15 17:39:01 -0400 (Mon, 15 Apr 2024) EndedAt: 2024-04-15 17:57:31 -0400 (Mon, 15 Apr 2024) EllapsedTime: 1110.0 seconds RetCode: 0 Status: OK PackageFile: ChIPseeker_1.38.0.tar.gz PackageFileSize: 7.299 MiB