Package: ChIPseeker Version: 1.38.0 Command: rm -rf ChIPseeker.buildbin-libdir && mkdir ChIPseeker.buildbin-libdir && /Users/biocbuild/BBS/utils/build-universal.sh ChIPseeker_1.38.0.tar.gz /Library/Frameworks/R.framework/Resources/bin/R ChIPseeker.buildbin-libdir StartedAt: 2024-03-04 00:33:42 -0500 (Mon, 04 Mar 2024) EndedAt: 2024-03-04 00:34:52 -0500 (Mon, 04 Mar 2024) EllapsedTime: 69.4 seconds RetCode: 0 Status: OK PackageFile: ChIPseeker_1.38.0.tgz PackageFileSize: 6.975 MiB